BEGIN:VCALENDAR
VERSION:2.0
PRODID:-//Lauriane Pujo - Photographe Lifestyle//NONSGML kigkonsult.se iCalcreator 2.41.92//
CALSCALE:GREGORIAN
METHOD:PUBLISH
UID:39623230-6231-4566-b761-396134316161
X-WR-CALNAME:iCagenda
X-WR-CALDESC:Event Management Extension for Joomla!
X-WR-RELCALID:3E26604A-50F4-4449-8B3E-E4F4932D05B5
X-WR-TIMEZONE:UTC
BEGIN:VTIMEZONE
TZID:UTC
END:VTIMEZONE
BEGIN:VEVENT
UID:32653435-6638-4530-a230-376532366433
DTSTAMP:20260424T004732Z
CATEGORIES:Zéro déchet
CLASS:PUBLIC
DESCRIPTION;ALTREP="CID:<FFFF__=0ABBE548DFE235B58f9e8a93d@coffeebean.com>":
 A la recherche de solutions durables et économes pour votre bébé ? Cet ate
 lier est pour vous ! Venez découvrir les couches et lingettes lavables\, d
 es astuces zéro déchet pour le goûter de bébé et bien plus encore.\nAu pro
 gramme :\n\nDécouverte des couches lavables\nComment les choisir\, les uti
 liser\, les entretenir\nLes repas de bébé sans déchet\nAchats de seconde m
 ain (habits\, jouets...)\nEchange et partage de nos expériences\, question
 s\, inquiétudes etc...\n\nInscriptions en cliquant ici.\n21 euros par part
 icipant.\nAnimé par Lauriane Pujo au tilvist coff'Tea Shop
DTSTART:20200215T100000Z
DTEND:20200215T120000Z
GEO:00;0
LOCATION:Tilvist Coff'Tea Shop\, 23 rue de la Moselle\, 68100 Mulhouse
ORGANIZER;CN=:mailto:contact@laurianepujophotographe.com
SEQUENCE:1
SUMMARY:Atelier 'Mon bébé au naturel / zéro déchet'
TRANSP:OPAQUE
URL:https://laurianepujophotographe.com/agenda/10-atelier-mon-bebe-au-natur
 el-zero-dechet/2020-02-15-10-00
END:VEVENT
END:VCALENDAR
