BEGIN:VCALENDAR
VERSION:2.0
PRODID:-//Lauriane Pujo - Photographe Lifestyle//NONSGML kigkonsult.se iCalcreator 2.41.92//
CALSCALE:GREGORIAN
METHOD:PUBLISH
UID:30343266-6636-4162-a264-363430623435
X-WR-CALNAME:iCagenda
X-WR-CALDESC:Event Management Extension for Joomla!
X-WR-RELCALID:3E26604A-50F4-4449-8B3E-E4F4932D05B5
X-WR-TIMEZONE:UTC
BEGIN:VTIMEZONE
TZID:UTC
END:VTIMEZONE
BEGIN:VEVENT
UID:30313230-6436-4463-a566-336439643335
DTSTAMP:20260421T192720Z
CATEGORIES:Photographie
CLASS:PUBLIC
DESCRIPTION;ALTREP="CID:<FFFF__=0ABBE548DFE235B58f9e8a93d@coffeebean.com>":
 Les séances photos printanières auront lieu le samedi 18 avril entre 9h et
  19h.\n10 créneaux horaires sont disponibles\, le premier arrivé est le pr
 emier servi !\nLa séance comprend :\n\nL'accompagnement avant\, pendant et
  après.\n45 minutes de séances photos en extérieur dans un lieu choisi ave
 c soin.\nUne galerie en ligne pour visualiser votre reportage.\n10 photos 
 numériques HD de votre choix à télécharger dans la galerie en ligne.\n1 im
 pression de votre choix envoyée à votre domicile !\nDe merveilleux souveni
 rs de ce beau moment !\n\nVous pouvez venir seul.e\, en couple\, en famill
 e. Pour une grossesse\, un anniversaire\, faire une surprise à un proche o
 u juste pour le plaisir de passer un moment ensemble !\nTARIF : 149 euros
 \nLIEU : Il sera communiqué 1 semaine avant mais sera dans l'agglomération
  Mulhousienne.\nRESERVATION : En m'écrivant par ICI
DTSTART:20200418T090000Z
DTEND:20200418T190000Z
GEO:00;0
LOCATION:Mulhouse agglomération
ORGANIZER;CN=:mailto:contact@laurianepujophotographe.com
SEQUENCE:1
SUMMARY:Séances photos printanières
TRANSP:OPAQUE
URL:https://laurianepujophotographe.com/agenda/12-seances-photos-printanier
 es
END:VEVENT
END:VCALENDAR
