BEGIN:VCALENDAR
VERSION:2.0
PRODID:-//Lauriane Pujo - Photographe Lifestyle//NONSGML kigkonsult.se iCalcreator 2.41.92//
CALSCALE:GREGORIAN
METHOD:PUBLISH
UID:30376665-3531-4366-b136-633438366636
X-WR-CALNAME:iCagenda
X-WR-CALDESC:Event Management Extension for Joomla!
X-WR-RELCALID:3E26604A-50F4-4449-8B3E-E4F4932D05B5
X-WR-TIMEZONE:UTC
BEGIN:VTIMEZONE
TZID:UTC
END:VTIMEZONE
BEGIN:VEVENT
UID:36616261-3038-4532-a232-373230316161
DTSTAMP:20260421T162230Z
CATEGORIES:Femmes
CLASS:PUBLIC
DESCRIPTION;ALTREP="CID:<FFFF__=0ABBE548DFE235B58f9e8a93d@coffeebean.com>":
 Que vous ayez des enfants ou non\, qu'ils soient présents ou non\, qu'ils 
 soient attendus ou de surprenantes surprises\, venez écouter et déposer vo
 s paroles lors de nos tentes rouges mensuelles à La'Kaïdal de Kembs.\nUne 
 tente rouge est un lieu d'écoute et de paroles entres femmes\, pour dépose
 r nos mots et nos maux\, afin de repartir plus légères.\nIl s'agit d'un li
 eu de non-jugement qui se veut bienveillant et où l'anonymat est préservé.
 \nInscriptions par mail en cliquant : ici\nDurée : 2h\nTarif : 20 euros/pe
 rs
DTSTART:20210522T143000Z
DTEND:20210522T143000Z
GEO:00;0
LOCATION:La'Kaïdal\, Kembs
ORGANIZER;CN=:mailto:contact@laurianepujophotographe.com
SEQUENCE:1
SUMMARY:Tente rouge : la maternité sous toutes ses formes
TRANSP:OPAQUE
URL:https://laurianepujophotographe.com/agenda/14-tente-rouge-la-maternite-
 sous-toutes-ses-formes/2021-05-22-14-30
END:VEVENT
END:VCALENDAR
