BEGIN:VCALENDAR
VERSION:2.0
PRODID:-//Lauriane Pujo - Photographe Lifestyle//NONSGML kigkonsult.se iCalcreator 2.41.92//
CALSCALE:GREGORIAN
METHOD:PUBLISH
UID:36366661-6462-4233-b839-333364386634
X-WR-CALNAME:iCagenda
X-WR-CALDESC:Event Management Extension for Joomla!
X-WR-RELCALID:3E26604A-50F4-4449-8B3E-E4F4932D05B5
X-WR-TIMEZONE:UTC
BEGIN:VTIMEZONE
TZID:UTC
END:VTIMEZONE
BEGIN:VEVENT
UID:32383730-3833-4165-b030-323562623931
DTSTAMP:20260421T142859Z
CATEGORIES:Zéro déchet
CLASS:PUBLIC
DESCRIPTION;ALTREP="CID:<FFFF__=0ABBE548DFE235B58f9e8a93d@coffeebean.com>":
 Venez découvrir des solutions durables et économes pour simplifier le quot
 idien de bébé tout en le rendant plus éco-responsable.\nVeuillez consulter
  la description de cet atelier ici : Ateliers familles \nPour acheter vos 
 billets : cliquez ici
DTSTART:20190921T100000Z
DTEND:20190921T120000Z
GEO:00;0
LOCATION:Tilvist Coff'Tea Shop Mulhouse
ORGANIZER;CN=:mailto:contact@laurianepujophotographe.com
SEQUENCE:1
SUMMARY:Atelier 'Mon bébé au naturel / zéro déchet'
TRANSP:OPAQUE
URL:https://laurianepujophotographe.com/agenda/2-atelier-mon-bebe-au-nature
 l-zero-dechet
END:VEVENT
END:VCALENDAR
