BEGIN:VCALENDAR
VERSION:2.0
PRODID:-//Lauriane Pujo - Photographe Lifestyle//NONSGML kigkonsult.se iCalcreator 2.41.92//
CALSCALE:GREGORIAN
METHOD:PUBLISH
UID:33303339-6130-4064-a332-366565383036
X-WR-CALNAME:iCagenda
X-WR-CALDESC:Event Management Extension for Joomla!
X-WR-RELCALID:3E26604A-50F4-4449-8B3E-E4F4932D05B5
X-WR-TIMEZONE:UTC
BEGIN:VTIMEZONE
TZID:UTC
END:VTIMEZONE
BEGIN:VEVENT
UID:65643437-6463-4631-a331-616264633062
DTSTAMP:20260421T144302Z
CATEGORIES:Zéro déchet
CLASS:PUBLIC
DESCRIPTION;ALTREP="CID:<FFFF__=0ABBE548DFE235B58f9e8a93d@coffeebean.com>":
 Venez tester les couches lavables pendant 1 mois. Ce prêt a pour but de vo
 us faire tester différents modèles et marques de couches lavables. Le prêt
  débute par une réunion d'information\, qui vous permettra d'apprendre à c
 hoisir\, utiliser et entretenir les couches lavables.\nCet événement est d
 édié aux habitants de Saint-Louis Agglomération\, il est gratuit pour les 
 habitants car financé par l'agglo.\nChaque kit de couches lavables compren
 d 8 couches adaptées à l'âge et au poids de votre enfant.\nUne réunion de 
 fin de prêt viendra clôturer cette aventure le 19 juin de 18h30 à 20h. Ce 
 sera un moment d'échange sur votre expérience avec les autres familles aya
 nt participé ! Vous pourrez également y poser vos dernières questions :)\n
 Il est possible de participer à la réunion d'information sans participer a
 u prêt de couches lavables.\nInfos et inscriptions par mail à doebelin.san
 drine@agglo-saint-louis.fr\n 
DTSTART:20230523T183000Z
DTEND:20230619T203000Z
GEO:00;0
LOCATION:Saint-Louis agglomération\, pont du Palmrain
ORGANIZER;CN=:mailto:doebelin.sandrine@agglo-saint-louis.fr
SEQUENCE:1
SUMMARY:Atelier d'information et prêt de couches lavables pour les habitant
 s de Saint-Louis Agglomération
TRANSP:OPAQUE
URL:https://laurianepujophotographe.com/agenda/20-atelier-dinformation-et-p
 ret-de-couches-lavables-pour-les-habitants-de-saint-louis-agglomeration
END:VEVENT
END:VCALENDAR
