BEGIN:VCALENDAR
VERSION:2.0
PRODID:-//Lauriane Pujo - Photographe Lifestyle//NONSGML kigkonsult.se iCalcreator 2.41.92//
CALSCALE:GREGORIAN
METHOD:PUBLISH
UID:30353737-3635-4164-b735-666564623161
X-WR-CALNAME:iCagenda
X-WR-CALDESC:Event Management Extension for Joomla!
X-WR-RELCALID:3E26604A-50F4-4449-8B3E-E4F4932D05B5
X-WR-TIMEZONE:UTC
BEGIN:VTIMEZONE
TZID:UTC
END:VTIMEZONE
BEGIN:VEVENT
UID:65336663-3364-4463-b462-666339616634
DTSTAMP:20260421T161902Z
CATEGORIES:Photographie
CLASS:PUBLIC
DESCRIPTION;ALTREP="CID:<FFFF__=0ABBE548DFE235B58f9e8a93d@coffeebean.com>":
 La rentrée est passée\, les bébés deviennent des bambins et les bambins de
  grands enfants ?Pour conserver des souvenirs de votre vie de famille\, je
  vous propose de nous retrouver le samedi 12 octobre pour des séances phot
 os automnales ?9 places disponibles (et donc 9 créneaux horaires possibles
  entre 9h et 17h).=&gt\; OPTION 1 : 75 euros30 minutes de séance photo+ Un
 e galerie en ligne pour visualiser votre reportage (non téléchargeable)+ 1
  impression 20 x 30 cm + son fichier numérique HD(Possibilité d'ajouter d'
 autres impressions ou fichiers numériques en supplément.)? Pour 75 euros ?
  (au lieu de 85 euros)OU=&gt\; OPTION 2 : 185 euros30 minutes de séance ph
 oto+ Une galerie en ligne pour visualiser votre reportage (non téléchargea
 ble)+ Votre séance dans un album 26 pages? Pour 185 euros ? (au lieu de 20
 5 euros)POUR RESERVER VOTRE SEANCE AUTOMNALE écrivez-moi en cliquant : ici
DTSTART:20191012T090000Z
DTEND:20191012T170000Z
GEO:00;0
LOCATION:Mulhouse
ORGANIZER;CN=:mailto:contact@laurianepujophotographe.com
SEQUENCE:1
SUMMARY:Séances photos automnales
TRANSP:OPAQUE
URL:https://laurianepujophotographe.com/agenda/4-seances-photos-automnales
END:VEVENT
END:VCALENDAR
